BEGIN:VCALENDAR
VERSION:2.0
PRODID:icalendar-ruby
CALSCALE:GREGORIAN
METHOD:PUBLISH
BEGIN:VEVENT
DTSTAMP:20260420T163142Z
UID:23-2837950@firstumcsac.org
DTSTART:20261029T210000Z
DTEND:20261029T230000Z
CLASS:PUBLIC
CREATED:20260420T072749
DESCRIPTION:
LAST-MODIFIED:20260420T072749
LOCATION:St John's
SUMMARY:Afternoon Snack Stop
URL;VALUE=URI:https://firstumcsac.org/events/afternoon-snack-stop--23/2026-
 10-29
ATTACH;FILENAME=St-Johns.jpg;FMTTYPE=image/jpeg:https://dq5pwpg1q8ru0.cloud
 front.net/2024/08/05/04/55/31/84de3809-b9a8-4dc1-b395-8e1c912ff79e/St-John
 s.jpg
END:VEVENT
END:VCALENDAR
