BEGIN:VCALENDAR
VERSION:2.0
PRODID:icalendar-ruby
CALSCALE:GREGORIAN
METHOD:PUBLISH
BEGIN:VEVENT
DTSTAMP:20260421T171441Z
UID:18-2857076@firstumcsac.org
DTSTART:20261021T210000Z
DTEND:20261021T230000Z
CLASS:PUBLIC
CREATED:20260421T100902
DESCRIPTION:
LAST-MODIFIED:20260421T100902
LOCATION:St John's 
SUMMARY:Afternoon Snack Stop
URL;VALUE=URI:https://firstumcsac.org/events/afternoon-snack-stop/2026-10-2
 1
ATTACH;FILENAME=St-Johns.jpg;FMTTYPE=image/jpeg:https://dq5pwpg1q8ru0.cloud
 front.net/2024/08/05/04/53/56/64976795-c01a-48a8-aec5-2bc71e016cc0/St-John
 s.jpg
END:VEVENT
END:VCALENDAR
