BEGIN:VCALENDAR
VERSION:2.0
PRODID:icalendar-ruby
CALSCALE:GREGORIAN
METHOD:PUBLISH
BEGIN:VEVENT
DTSTAMP:20260420T111758Z
UID:32-2833315@firstumcsac.org
DTSTART:20261010T180000Z
DTEND:20261010T210000Z
CLASS:PUBLIC
CREATED:20260420T000448
DESCRIPTION:
LAST-MODIFIED:20260420T000448
LOCATION:13th & C
SUMMARY:Lifting Spirits Higher Unhoused Pop Up
URL;VALUE=URI:https://firstumcsac.org/events/lifting-spirits-higher-unhouse
 d-pop-up/2026-10-10
END:VEVENT
END:VCALENDAR
