BEGIN:VCALENDAR
VERSION:2.0
PRODID:icalendar-ruby
CALSCALE:GREGORIAN
METHOD:PUBLISH
BEGIN:VEVENT
DTSTAMP:20260420T142205Z
UID:32-2836117@firstumcsac.org
DTSTART:20261024T180000Z
DTEND:20261024T210000Z
CLASS:PUBLIC
CREATED:20260420T045237
DESCRIPTION:
LAST-MODIFIED:20260420T045237
LOCATION:13th & C
SUMMARY:Lifting Spirits Higher Unhoused Pop Up
URL;VALUE=URI:https://firstumcsac.org/events/lifting-spirits-higher-unhouse
 d-pop-up/2026-10-24
END:VEVENT
END:VCALENDAR
