BEGIN:VCALENDAR
VERSION:2.0
PRODID:icalendar-ruby
CALSCALE:GREGORIAN
METHOD:PUBLISH
BEGIN:VEVENT
DTSTAMP:20260420T161152Z
UID:32-2838918@firstumcsac.org
DTSTART:20261031T180000Z
DTEND:20261031T210000Z
CLASS:PUBLIC
CREATED:20260420T072751
DESCRIPTION:
LAST-MODIFIED:20260420T072751
LOCATION:13th & C
SUMMARY:Lifting Spirits Higher Unhoused Pop Up
URL;VALUE=URI:https://firstumcsac.org/events/lifting-spirits-higher-unhouse
 d-pop-up/2026-10-31
END:VEVENT
END:VCALENDAR
