BEGIN:VCALENDAR
VERSION:2.0
PRODID:icalendar-ruby
CALSCALE:GREGORIAN
METHOD:PUBLISH
BEGIN:VEVENT
DTSTAMP:20260422T022701Z
UID:30-2866697@firstumcsac.org
DTSTART:20261010T160000Z
DTEND:20261010T200000Z
CLASS:PUBLIC
CREATED:20260421T180207
DESCRIPTION:
LAST-MODIFIED:20260421T180207
LOCATION:13th & C St
SUMMARY:Mercy Holistic Ministry Showers
URL;VALUE=URI:https://firstumcsac.org/events/mercy-holistic-ministry-shower
 s/2026-10-10
END:VEVENT
END:VCALENDAR
